BEGIN:VCALENDAR
VERSION:2.0
PRODID:-//ФББМ - Федерация бодибилдинга в городе Москве - ECPv6.15.14//NONSGML v1.0//EN
CALSCALE:GREGORIAN
METHOD:PUBLISH
X-WR-CALNAME:ФББМ - Федерация бодибилдинга в городе Москве
X-ORIGINAL-URL:https://fbbm.ru
X-WR-CALDESC:Мероприятия для ФББМ - Федерация бодибилдинга в городе Москве
REFRESH-INTERVAL;VALUE=DURATION:PT1H
X-Robots-Tag:noindex
X-PUBLISHED-TTL:PT1H
BEGIN:VTIMEZONE
TZID:Europe/Moscow
BEGIN:STANDARD
TZOFFSETFROM:+0300
TZOFFSETTO:+0300
TZNAME:MSK
DTSTART:20250101T000000
END:STANDARD
END:VTIMEZONE
BEGIN:VEVENT
DTSTART;TZID=Europe/Moscow:20260409T080000
DTEND;TZID=Europe/Moscow:20260410T170000
DTSTAMP:20260423T012611
CREATED:20260312T082736Z
LAST-MODIFIED:20260330T101918Z
UID:4442-1775721600-1775840400@fbbm.ru
SUMMARY:Кубок Республики Крым
DESCRIPTION:День приезда – 9 апреля 2026 г. \n2. Регистрация участников\, прием стартовых и членскихвзносов\, комиссия по допуску (взвешивание\, измерение роста\, контроль \nсоревновательного костюма\, сдача фонограмм): 9 апреля 2026 г. с 17:00 до \n19:00 по адресу: г. Симферополь\, ул. Киевская 115\, Крымский \nреспубликанский Дворец культуры профсоюзов (зимний сад). \n3. Соревнования: 10 апреля 2026 г. по адресу: г. Симферополь\, \nул. Киевская 115\, Крымский республиканский Дворец культуры профсоюзов: \n15:00 – судейский семинар; \n16:00 – фестиваль фитнеса \nРЕГЛАМЕНТ_Кубок_и_Первенство_РК_по_бб_9_10_апреля_2026 \nДанная регистрация ТОЛЬКО для членов Федерации Бодибилдинга Москвы либо тех\, кто планирует стать членом ФББМ\nЧлены ВСЕХ других федераций должны регистрироваться в своих федерациях
URL:https://fbbm.ru/event/krim_2026/
CATEGORIES:Мероприятия
ATTACH;FMTTYPE=image/webp:https://fbbm.ru/wp-content/uploads/2026/03/5240378632981649114_121.jpg.webp
END:VEVENT
BEGIN:VEVENT
DTSTART;TZID=Europe/Moscow:20260410T080000
DTEND;TZID=Europe/Moscow:20260411T170000
DTSTAMP:20260423T012611
CREATED:20260209T135058Z
LAST-MODIFIED:20260408T125836Z
UID:4367-1775808000-1775926800@fbbm.ru
SUMMARY:Всероссийские соревнования «Титаны Урала 2026»
DESCRIPTION:МЕСТО И ВРЕМЯ ПРОВЕДЕНИЯ СОРЕВНОВАНИЙ \nМесто проведения соревнований: г. Екатеринбург\, СК «Дворец Дзюдо»\, проспект Академика \nСахарова 37б. \nСроки проведения соревнований: 10-12 апреля 2026 года.4. ПРОГРАММА ПРОВЕДЕНИЯ СОРЕВНОВАНИЙ \n10 апреля (г. Екатеринбург\, СК «Дворец Дзюдо»\, проспект Академика Сахарова 37б): \n19:00-21:00 — регистрация участников. Комиссия по допуску. \n11 апреля (г. Екатеринбург\, СК «Дворец Дзюдо»\, проспект Академика Сахарова 37б): \n08:00-09:00- регистрация участников. Комиссия по допуску \n9:30 – 10:00 – прохождение судейского теста (обязательно для судей-стажеров\, по желанию для \nвсех судей). \n10:30 – 10:50 – заседание судейской коллегии\, формирование судейских бригад \n11:00 – 23:50 — выступление спортсменов согласно программе соревнований (Приложение 1). \nКаждому участнику необходимо прийти на регистрацию один раз: или 10\, или 11 апреля \nПоложение-ВС-Титаны-Урала-11.04.2026 \nДанная регистрация ТОЛЬКО для членов Федерации Бодибилдинга Москвы либо тех\, кто планирует стать членом ФББМ\nЧлены ВСЕХ других федераций должны регистрироваться в своих федерациях
URL:https://fbbm.ru/event/titanur/
CATEGORIES:Мероприятия
ATTACH;FMTTYPE=image/webp:https://fbbm.ru/wp-content/uploads/2026/02/ДЛЯ-САЙТА-11.04.26-Титаны-Урала-scaled.png.webp
END:VEVENT
END:VCALENDAR