BEGIN:VCALENDAR
VERSION:2.0
PRODID:-//ФББМ - Федерация бодибилдинга в городе Москве - ECPv6.15.14//NONSGML v1.0//EN
CALSCALE:GREGORIAN
METHOD:PUBLISH
X-ORIGINAL-URL:https://fbbm.ru
X-WR-CALDESC:Мероприятия для ФББМ - Федерация бодибилдинга в городе Москве
REFRESH-INTERVAL;VALUE=DURATION:PT1H
X-Robots-Tag:noindex
X-PUBLISHED-TTL:PT1H
BEGIN:VTIMEZONE
TZID:Europe/Moscow
BEGIN:STANDARD
TZOFFSETFROM:+0300
TZOFFSETTO:+0300
TZNAME:MSK
DTSTART:20250101T000000
END:STANDARD
END:VTIMEZONE
BEGIN:VEVENT
DTSTART;VALUE=DATE:20260308
DTEND;VALUE=DATE:20260309
DTSTAMP:20260422T035337
CREATED:20260206T141944Z
LAST-MODIFIED:20260302T093521Z
UID:4274-1772928000-1773014399@fbbm.ru
SUMMARY:Чемпионат Республики Хакасия
DESCRIPTION:Сроки и место проведения \nСоревнования проводятся  в городе Абакан. Сроки проведения: 8 марта 2026 года. \nКомиссия по допуску (взвешивание/измерения роста) состоится 7 марта с 18:00 до 20:00\, в ДК «Железнодорожников» по адресу: ул. Пирятинская\, 20. \nМесто проведения соревнований–ДК «Железнодорожников» по адресу: ул. Пирятинская\, 20. \nНачало соревнований – 08 марта 2026 в 10:00 часов. \nПоложение_Чемпионат_РХ_Южный_Край_2026 \nДанная регистрация ТОЛЬКО для членов Федерации Бодибилдинга Москвы либо тех\, кто планирует стать членом ФББМ\nЧлены ВСЕХ других федераций должны регистрироваться в своих федерациях
URL:https://fbbm.ru/event/khakasia_2026/
CATEGORIES:Мероприятия
ATTACH;FMTTYPE=image/webp:https://fbbm.ru/wp-content/uploads/2026/02/photo_2026-01-18_16-51-49.jpg.webp
END:VEVENT
END:VCALENDAR