BEGIN:VCALENDAR
VERSION:2.0
PRODID:-//ФББМ - Федерация бодибилдинга в городе Москве - ECPv6.15.14//NONSGML v1.0//EN
CALSCALE:GREGORIAN
METHOD:PUBLISH
X-WR-CALNAME:ФББМ - Федерация бодибилдинга в городе Москве
X-ORIGINAL-URL:https://fbbm.ru
X-WR-CALDESC:Мероприятия для ФББМ - Федерация бодибилдинга в городе Москве
REFRESH-INTERVAL;VALUE=DURATION:PT1H
X-Robots-Tag:noindex
X-PUBLISHED-TTL:PT1H
BEGIN:VTIMEZONE
TZID:Europe/Moscow
BEGIN:STANDARD
TZOFFSETFROM:+0300
TZOFFSETTO:+0300
TZNAME:MSK
DTSTART:20230101T000000
END:STANDARD
END:VTIMEZONE
BEGIN:VEVENT
DTSTART;VALUE=DATE:20240310
DTEND;VALUE=DATE:20240311
DTSTAMP:20260421T135700
CREATED:20240205T102554Z
LAST-MODIFIED:20240304T140945Z
UID:3064-1710028800-1710115199@fbbm.ru
SUMMARY:Чемпионат Республики Бурятия
DESCRIPTION:Соревнования проводятся в Республике Бурятия\, г. Улан-Удэ 10 марта 2024 года в помещении Концертно-театрального центра «Феникс»\, расположенного по адресу: г. Улан-Удэ\, ул. Терешковой\, д.1. \nНачало соревнований в 13:00 ч. \nАккредитация участников состоится 09 марта 2024 года в помещении Концертно-театрального центра «Феникс»\, расположенного по адресу: г. Улан-Удэ\, ул. Терешковой\, д. 1\, с 15:00 до 17:00 ч.  \n2024_Положение-Чемпионата-РБ \nВНИМАНИЕ!  \nДанная регистрация ТОЛЬКО для членов Федерации Бодибилдинга Москвы либо тех\, кто планирует стать членом ФББМ\nЧлены ВСЕХ других федераций должны регистрироваться в своих федерациях
URL:https://fbbm.ru/event/burjatia/
LOCATION:Феникс\, ул. Терешковой\, д.1\, г. Улан-Удэ\, Российская Федерация
CATEGORIES:Мероприятия
ATTACH;FMTTYPE=image/jpeg:https://fbbm.ru/wp-content/uploads/2024/02/Чемпионат-РБ-2024.jpeg
END:VEVENT
END:VCALENDAR