BEGIN:VCALENDAR
VERSION:2.0
PRODID:-//ФББМ - Федерация бодибилдинга в городе Москве - ECPv6.15.14//NONSGML v1.0//EN
CALSCALE:GREGORIAN
METHOD:PUBLISH
X-ORIGINAL-URL:https://fbbm.ru
X-WR-CALDESC:Мероприятия для ФББМ - Федерация бодибилдинга в городе Москве
REFRESH-INTERVAL;VALUE=DURATION:PT1H
X-Robots-Tag:noindex
X-PUBLISHED-TTL:PT1H
BEGIN:VTIMEZONE
TZID:Europe/Moscow
BEGIN:STANDARD
TZOFFSETFROM:+0300
TZOFFSETTO:+0300
TZNAME:MSK
DTSTART:20230101T000000
END:STANDARD
END:VTIMEZONE
BEGIN:VEVENT
DTSTART;VALUE=DATE:20240420
DTEND;VALUE=DATE:20240421
DTSTAMP:20260422T172344
CREATED:20240227T130032Z
LAST-MODIFIED:20240416T090546Z
UID:3243-1713571200-1713657599@fbbm.ru
SUMMARY:Кубок Ярославской области по бодибилдингу и фитнесу
DESCRIPTION:  \nПОЛОЖЕНИЕ  \n“Кубок Ярославской области по бодибилдингу и фитнесу  \nГран-При Столицы Золотого Кольца России-V” \n20 апреля 2024года \n     «Открытый Кубок Ярославской области по бодибилдингу и фитнесу Гран-При Столицы Золотого Кольца России-V» (далее — «Соревнования») проводятся на основании решения от 01.10.2023 года №38 Конференции общественной организации «Ярославская областная федерация бодибилдинга\, фитнеса и бодифитнеса»\, в соответствии с Планом официальных физкультурных мероприятий и спортивных мероприятий Ярославской области на 2024 год. \n      Соревнования проводятся в соответствии с правилами вида спорта «Бодибилдинг»\, утвержденными приказом Минспорттуризма от 20 апреля 2010года № 368. \nСоревнования проводятся с целью развития и популяризации бодибилдинга в Ярославской области. \nЗадачами проведения соревнований являются: \n— подготовка спортивного резерва; \n— повышение уровня спортивного мастерства; \n— популяризация и развитие бодибилдинга в Ярославской области; \n— увеличение числа детей и молодежи\, занимающихся бодибилдингом в городе Ярославле и в Ярославской области; \n— выявление сильнейших спортсменов для формирования составов спортивных сборных команд Ярославской области для участия во всероссийских соревнованиях. \nОрганизаторам и участникам соревнований запрещается оказывать противоправное влияние на результаты соревнований. Участвовать в азартных играх в букмекерских конторах и тотализаторах путем заключения пари на официальные спортивные соревнования в соответствии с требованиями\, установленными пунктом 3 части 4 статьи 26.2 Федерального закона от 4 декабря 2007 года № 329-ФЗ «О физической культуре и спорте в Российской Федерации». \nОрганизаторы соревнований \nВ соответствии с пунктом 2.4 статьи 16.1 Федерального закона от 4 декабря 2007 года № 329-ФЗ «О физической культуре и спорте в Российской Федерации»\, организатором соревнований выступает Общественная организация «Ярославская областная федерация бодибилдинга» (ЯОФБ). Непосредственное проведение соревнований осуществляет Главная судейская коллегия (далее – «ГСК»)\, утвержденная ОО «ЯОФБ». \nОбеспечение безопасности участников и зрителей\, медицинское обеспечение \nСоревнования проводятся на объектах спорта\, включенных во Всероссийский реестр объектов спорта\, в соответствии с п. 5 ст. 37.1. Федерального закона от 4 декабря 2007 года № 329-ФЗ «О физической культуре и спорте в Российской Федерации». \nОбеспечение безопасности участников и зрителей осуществляется согласно требованиям Правил обеспечения безопасности при проведении официальных спортивных соревнований\, утвержденных постановлением Правительства Российской Федерации от 18 апреля 2014 года № 353. \nОказание скорой медицинской помощи осуществляется в соответствии с приказом Министерства здравоохранения Российской Федерации от 01.03.2016 года № 134Н «О порядке организации оказания медицинской помощи лицам\, занимающимся физической культурой и спортом (в том числе при подготовке и проведении физкультурных мероприятий и спортивных мероприятий)\, включая порядок медицинского осмотра лиц\, желающих пройти спортивную подготовку\, заниматься физической культурой и спортом в организациях и (или) выполнить нормативы испытаний (тестов) Всероссийского физкультурно-спортивного комплекса «Готов к труду и обороне»». \nОбеспечение медицинской помощью участников соревнований возлагается на ОО «ЯОФББ». \nКаждый участник должен иметь действующий медицинский допуск спортивного диспансера\, который является основанием для допуска к участию в соревнованиях\, либо разовую медицинскую справку о допуске к соревнованиям. \nСроки и место проведения: \nСоревнования проводятся 20 апреля 2024 года в Концертном зале ДК Железнодорожников \nпо адресу : г. Ярославль\, ул. Павлика Морозова 3.  \nПрограмма соревнований: \nРегистрация участников: \n20 апреля 2024 года с 9.00 до 11.30 в Концертном зале ДК Железнодорожников по адресу : г. Ярославль\, ул. Павлика Морозова 3\,  \nв 12:00 – начало соревнований. \nРуководство соревнованиями \nОбщее руководство подготовкой и проведением соревнований осуществляется Оргкомитетом. Непосредственное руководство соревнованиями осуществляет Главный судья – Борисов Алексей Юрьевич. \nУчастники соревнований \nК участию в соревнованиях допускаются спортсмены в следующих категориях: \n1. Фитнес дети (девочки до 15 лет) \n2. Дебют фитнес-бикини до 162 см \n3. Дебют фитнес-бикини свыше 162 см \n4. Мастера бодибилдинг 40+ \n5. Мастера фитнес-бикини 35+ \n6. Бодифитнес (абсолютная категория)  \n7. Велнес (абсолютная категория)  \n8. Фитнес-бикини до 162 см \n9. Фитнес-бикини свыше 162 см \n10. Бодибилдинг до 85 кг \n11. Бодибилдинг свыше 85 кг \n12. Атлетик (абсолютная категория)  \n13. Пляжный бодибилдинг (абсолютная категория) \n14. Фитнес-модель (абсолютная категория) \n*Количество категорий и их градация могут быть пересмотрены судейской коллегией в зависимости от количества заявленных участников. \nДля допуска к соревнованиям спортсмены обязательно должны иметь: \n* Паспорт; \n* Заявку от региональной Федерации с визой врача; \n* ИНН или № страхового пенсионного свидетельства; \n* Компакт-диск или флеш-накопитель с качественной записью фонограммы (в случае отсутствия\, ставится любая фонограмма на усмотрение звукооператора); \n* Плавки или купальники (соответствующие правилам соревнований IFBB); \n* Соответствующий грим (согласно правилам проведения соревнований IFBB). \nСпортсмены могут принимать участие в двух и более номинациях\, оплатив взнос за каждую из заявленных категорий.  \nУчастники соревнований\, представляющие Ярославскую область и являющиеся членами «Ярославской областной федерации бодибилдинга»\, не оплатившие «членский взнос» за 2024 год оплачивают на месте годовой «членский взнос» в размере 2000 руб./чел. На регистрации спортсмены\, тренеры и представители Ярославской области могут войти в состав ЯОФББ. Члены «Ярославской областной федерации бодибилдинга» оплачивают 50 процентов от суммы стартового взноса  номинацию.  \nСпортсмены\, не являющиеся членами «Ярославской областной федерации бодибилдинга»\, и иногородние участники оплачивают «Стартовый взнос» в размере 2500 руб./чел. \nЗа участие во второй и более категории оплачивается взнос 1500 рублей за каждую из категорий.  \nСпортсмены не являющиеся членами ФББР и выступающие впервые могут вступить в Ярославскую федерацию бодибилдинга во время регистрации.  \nУсловия приема участников \nКомандировочные расходы (проезд\, проживание\, питание и суточные оплачиваются за счет командирующих организаций. \nВсе спортсмены\, принимающие участие в официальных спортивных соревнованиях по бодибилдингу должны пройти онлайн-курс «Антидопинг» на образовательной платформе РАА «РУСАДА»  — https://course.rusada.ru с получением сертификата\, который в обязательном порядке необходимо предъявить на комиссии по допуску (взвешивании/измерении роста).        \n— Иногородние спортсмены должны быть действующими спортсменами ФББР и иметь заявку от своей региональной федерации. Заявки от региональных федераций отправлять на почту borisov-sport@yandex.ru \n— Ответственность за нарушение правил ФББР по поводу участия в соревнованиях альтернативных организаций на сайте: http://fbbr.org/2018/1615. \nСоревнования\, которые проходят под эгидой ФББР\, включены в календарный план соревнований ФББР см. www.fbbr.org\, раздел Календарь соревнований. \nПорядок определения победителей \nПобедитель соревнований определяется согласно правилам «Международной Федерации бодибилдинга» (IFBB) по наименьшей сумме мест набранной в финале. При равном количестве баллов преимущество имеет участник у которого большее количество высших мест. \nНаграждение \nПобедители и призеры награждаются памятными  кубками\, медалями\, дипломами.  \nФинансирование соревнований \nРасходы на организацию мероприятия и аренда помещения обеспечивается «Ярославской областной федерацией бодибилдинга». \nИнформация \nРегистрация на «Кубок Ярославской области по бодибилдингу и фитнесу Гран-При Столицы Золотого Кольца России-V» будет происходить по ссылке https://forms.gle/eQdAguv74iLvV4Ux9 до 20 апреля 2024 года. \nВсем зарегистрированным  онлайн участникам необходимо пройти очную регистрацию 20 апреля 2024 года перед турниром и оплатить стартовый взнос.  \nЗапись на грим по ссылке:  https://vk.com/club203506885 или по телефону: 89159974183 \nЗапись на макияж: https://vk.com/club214276028 по телефону:89159974183 \nИнформацию о турнире можно получить по адресу: borisov-sport@yandex.ru или по тел.: +7 920 142 10 50 Борисов Алексей Юрьевич. \nНАСТОЯЩЕЕ ПОЛОЖЕНИЕ ЯВЛЯЕТСЯ ОФИЦИАЛЬНЫМ ВЫЗОВОМ НА СОРЕВНОВАНИЯ \nGran-Pri_Stolitsy_Zolotogo_Koltsa_2024 \nВНИМАНИЕ!  \nДанная регистрация ТОЛЬКО для членов Федерации Бодибилдинга Москвы либо тех\, кто планирует стать членом ФББМ\nЧлены ВСЕХ других федераций должны регистрироваться в своих федерациях
URL:https://fbbm.ru/event/yroslavl2024/
LOCATION:ДК Железнодорожников\, ул. Павлика Морозова 3\, г. Ярославль\, Российская Федерация
CATEGORIES:Мероприятия
ATTACH;FMTTYPE=image/jpeg:https://fbbm.ru/wp-content/uploads/2024/02/t3xQwRmMoLY.jpg
END:VEVENT
END:VCALENDAR