BEGIN:VCALENDAR
VERSION:2.0
PRODID:-//ФББМ - Федерация бодибилдинга в городе Москве - ECPv6.15.14//NONSGML v1.0//EN
CALSCALE:GREGORIAN
METHOD:PUBLISH
X-ORIGINAL-URL:https://fbbm.ru
X-WR-CALDESC:Мероприятия для ФББМ - Федерация бодибилдинга в городе Москве
REFRESH-INTERVAL;VALUE=DURATION:PT1H
X-Robots-Tag:noindex
X-PUBLISHED-TTL:PT1H
BEGIN:VTIMEZONE
TZID:Europe/Moscow
BEGIN:STANDARD
TZOFFSETFROM:+0300
TZOFFSETTO:+0300
TZNAME:MSK
DTSTART:20250101T000000
END:STANDARD
END:VTIMEZONE
BEGIN:VEVENT
DTSTART;TZID=Europe/Moscow:20260404T080000
DTEND;TZID=Europe/Moscow:20260405T170000
DTSTAMP:20260425T200111
CREATED:20260218T135947Z
LAST-MODIFIED:20260330T102051Z
UID:4389-1775289600-1775408400@fbbm.ru
SUMMARY:Кубок Санкт-Петербурга
DESCRIPTION:Сроки\, место и порядок проведения\n\nСоревнования будут проходить 04 – 05 апреля 2026 года в КСК «Арена» по адресу: Санкт-Петербург\, Футбольная аллея\, 8 (станция метро «Зенит»).  \nБилеты на мероприятие со скидкой можно приобрести перейдя по ссылке http://fbbspb.ru/product-category/tickets \nКомиссия по допуску (взвешивание\, измерение роста) будет проходить 03 апреля 2026 года в ЦФКиС «Нарвская застава» стадион «Шторм» по адресу: пр. Народного ополчения\, 24 (станция метро «Ленинский проспект»). \n03.04.2026 (пятница) 1100 – 1800 \n           Комиссия по допуску (взвешивание\, измерение роста и оплата взносов – см.Расписание). \n04.04.2026 (суббота) 1100 – 2200      \nПоложение-кубок-СПб2026 \nДанная регистрация ТОЛЬКО для членов Федерации Бодибилдинга Москвы либо тех\, кто планирует стать членом ФББМ\nЧлены ВСЕХ других федераций должны регистрироваться в своих федерациях
URL:https://fbbm.ru/event/piter_05-04-2026/
CATEGORIES:Мероприятия
ATTACH;FMTTYPE=image/webp:https://fbbm.ru/wp-content/uploads/2026/02/1920х1079-_2026-весна-scaled.jpg.webp
END:VEVENT
END:VCALENDAR