BEGIN:VCALENDAR
VERSION:2.0
PRODID:-//ФББМ - Федерация бодибилдинга в городе Москве - ECPv6.15.14//NONSGML v1.0//EN
CALSCALE:GREGORIAN
METHOD:PUBLISH
X-ORIGINAL-URL:https://fbbm.ru
X-WR-CALDESC:Мероприятия для ФББМ - Федерация бодибилдинга в городе Москве
REFRESH-INTERVAL;VALUE=DURATION:PT1H
X-Robots-Tag:noindex
X-PUBLISHED-TTL:PT1H
BEGIN:VTIMEZONE
TZID:Europe/Moscow
BEGIN:STANDARD
TZOFFSETFROM:+0300
TZOFFSETTO:+0300
TZNAME:MSK
DTSTART:20240101T000000
END:STANDARD
END:VTIMEZONE
BEGIN:VEVENT
DTSTART;VALUE=DATE:20250309
DTEND;VALUE=DATE:20250310
DTSTAMP:20260420T174121
CREATED:20250212T052904Z
LAST-MODIFIED:20250303T115728Z
UID:3744-1741478400-1741564799@fbbm.ru
SUMMARY:Чемпионат Республики Бурятия
DESCRIPTION:Соревнования проводятся в Республике Бурятия\, г. Улан-Удэ 09 марта 2025 года в помещении Концертно-театрального центра «Феникс»\, расположенного по адресу: г. Улан-Удэ\, ул. Терешковой\, д.1. \nНачало соревнований в 13:00 ч. \nАккредитация участников состоится 08 марта 2025 года в помещении Концертно-театрального центра «Феникс»\, расположенного по адресу: г. Улан-Удэ\, ул. Терешковой\, д. 1\, с 15:00 до 17:00 ч.  \n2025_Положение-Чемпионата-РБ \nДанная регистрация ТОЛЬКО для членов Федерации Бодибилдинга Москвы либо тех\, кто планирует стать членом ФББМ\nЧлены ВСЕХ других федераций должны регистрироваться в своих федерациях
URL:https://fbbm.ru/event/%d1%87%d0%b5%d0%bc%d0%bf%d0%b8%d0%be%d0%bd%d0%b0%d1%82-%d1%80%d0%b5%d1%81%d0%bf%d1%83%d0%b1%d0%bb%d0%b8%d0%ba%d0%b8-%d0%b1%d1%83%d1%80%d1%8f%d1%82%d0%b8%d1%8f/
CATEGORIES:Мероприятия
END:VEVENT
BEGIN:VEVENT
DTSTART;VALUE=DATE:20250309
DTEND;VALUE=DATE:20250310
DTSTAMP:20260420T174121
CREATED:20250212T054034Z
LAST-MODIFIED:20250303T115750Z
UID:3767-1741478400-1741564799@fbbm.ru
SUMMARY:Чемпионата Норильска
DESCRIPTION:Общие сведения о спортивном соревновании\n4.1 Соревнования проводятся 9 марта 2025 года в 14:00 в г. Норильск\, МБУК \n«Городской Центр Культуры»\, ул. Орджоникидзе д. 15\, 2 этаж\, главная сцена.\n4.2 8 марта 2025 года в 18:00 – Регистрация участников\, приём стартовых и \nчленских взносов\, комиссия по допуску (взвешивание/измерения роста).\n4.3. Место регистрации участников: г. Норильск\, ул. Пушкина 7\, Стадион \n«Заполярник»\, здание АБК\, 2 этаж\, игровой зал. \nПоложение-4-Чемпионат-Норильска-ББ-09.03.2025 \nДанная регистрация ТОЛЬКО для членов Федерации Бодибилдинга Москвы либо тех\, кто планирует стать членом ФББМ\nЧлены ВСЕХ других федераций должны регистрироваться в своих федерациях
URL:https://fbbm.ru/event/norilsk_2025/
CATEGORIES:Мероприятия
ATTACH;FMTTYPE=image/jpeg:https://fbbm.ru/wp-content/uploads/2025/02/Афиша-ББ-09.03.25-scaled-1.jpg
END:VEVENT
BEGIN:VEVENT
DTSTART;VALUE=DATE:20250309
DTEND;VALUE=DATE:20250310
DTSTAMP:20260420T174121
CREATED:20250212T054707Z
LAST-MODIFIED:20250303T115655Z
UID:3779-1741478400-1741564799@fbbm.ru
SUMMARY:Чемпионат Костромской области
DESCRIPTION:1.Место проведения Спортивных соревнований: г. Кострома\, ул. Никитская\, д. 96 Дом музыки им. П.Герштейна \n2. Дата и время регистрации участников 09.03.2025 г. с 9-00 до 11-00 ч. \n3. Дата и время проведения соревнований 09.03.2025 г. в 12-00 ч.  \nПоложение-соревнований-КОФББ \nДанная регистрация ТОЛЬКО для членов Федерации Бодибилдинга Москвы либо тех\, кто планирует стать членом ФББМ\nЧлены ВСЕХ других федераций должны регистрироваться в своих федерациях
URL:https://fbbm.ru/event/kostroma_2025/
CATEGORIES:Мероприятия
END:VEVENT
END:VCALENDAR